BEGIN:VCALENDAR
VERSION:2.0
PRODID:icalendar-ruby
CALSCALE:GREGORIAN
METHOD:PUBLISH
BEGIN:VEVENT
DTSTAMP:20260423T193850Z
UID:14-269491@zionucc.com
DTSTART:20261018T144500Z
DTEND:20261018T154500Z
CLASS:PUBLIC
CREATED:20260423T143808
DESCRIPTION:Traditional Service
LAST-MODIFIED:20260423T143808
LOCATION:
SUMMARY:Traditional Service
URL;VALUE=URI:https://zionucc.com/events/traditional-service--14/2026-10-18
END:VEVENT
END:VCALENDAR
