BEGIN:VCALENDAR
VERSION:2.0
PRODID:icalendar-ruby
CALSCALE:GREGORIAN
METHOD:PUBLISH
BEGIN:VEVENT
DTSTAMP:20260423T161528Z
UID:14-269375@zionucc.com
DTSTART:20261004T144500Z
DTEND:20261004T154500Z
CLASS:PUBLIC
CREATED:20260423T114106
DESCRIPTION:Traditional Service
LAST-MODIFIED:20260423T114106
LOCATION:
SUMMARY:Traditional Service
URL;VALUE=URI:https://zionucc.com/events/traditional-service--14/2026-10-04
END:VEVENT
END:VCALENDAR
