BEGIN:VCALENDAR
VERSION:2.0
PRODID:icalendar-ruby
CALSCALE:GREGORIAN
METHOD:PUBLISH
BEGIN:VEVENT
DTSTAMP:20260423T144440Z
UID:14-269260@zionucc.com
DTSTART:20260927T144500Z
DTEND:20260927T154500Z
CLASS:PUBLIC
CREATED:20260423T084845
DESCRIPTION:Traditional Service
LAST-MODIFIED:20260423T084845
LOCATION:
SUMMARY:Traditional Service
URL;VALUE=URI:https://zionucc.com/events/traditional-service--14/2026-09-27
END:VEVENT
END:VCALENDAR
