BEGIN:VCALENDAR
VERSION:2.0
PRODID:icalendar-ruby
CALSCALE:GREGORIAN
METHOD:PUBLISH
BEGIN:VEVENT
DTSTAMP:20260423T050117Z
UID:14-269140@zionucc.com
DTSTART:20260816T144500Z
DTEND:20260816T154500Z
CLASS:PUBLIC
CREATED:20260422T231828
DESCRIPTION:Traditional Service
LAST-MODIFIED:20260422T231828
LOCATION:
SUMMARY:Traditional Service
URL;VALUE=URI:https://zionucc.com/events/traditional-service--14/2026-08-16
END:VEVENT
END:VCALENDAR
