BEGIN:VCALENDAR
VERSION:2.0
PRODID:icalendar-ruby
CALSCALE:GREGORIAN
METHOD:PUBLISH
BEGIN:VEVENT
DTSTAMP:20260423T001243Z
UID:14-268909@zionucc.com
DTSTART:20260726T144500Z
DTEND:20260726T154500Z
CLASS:PUBLIC
CREATED:20260422T173235
DESCRIPTION:Traditional Service
LAST-MODIFIED:20260422T173235
LOCATION:
SUMMARY:Traditional Service
URL;VALUE=URI:https://zionucc.com/events/traditional-service--14/2026-07-26
END:VEVENT
END:VCALENDAR
